BEGIN:VCALENDAR
VERSION:2.0
PRODID:-//Rosinka - ECPv6.15.20//NONSGML v1.0//EN
CALSCALE:GREGORIAN
METHOD:PUBLISH
X-WR-CALNAME:Rosinka
X-ORIGINAL-URL:https://www.rosinka.at
X-WR-CALDESC:Мероприятия для Rosinka
REFRESH-INTERVAL;VALUE=DURATION:PT1H
X-Robots-Tag:noindex
X-PUBLISHED-TTL:PT1H
BEGIN:VTIMEZONE
TZID:Europe/Vienna
BEGIN:DAYLIGHT
TZOFFSETFROM:+0100
TZOFFSETTO:+0200
TZNAME:CEST
DTSTART:20240331T010000
END:DAYLIGHT
BEGIN:STANDARD
TZOFFSETFROM:+0200
TZOFFSETTO:+0100
TZNAME:CET
DTSTART:20241027T010000
END:STANDARD
BEGIN:DAYLIGHT
TZOFFSETFROM:+0100
TZOFFSETTO:+0200
TZNAME:CEST
DTSTART:20250330T010000
END:DAYLIGHT
BEGIN:STANDARD
TZOFFSETFROM:+0200
TZOFFSETTO:+0100
TZNAME:CET
DTSTART:20251026T010000
END:STANDARD
BEGIN:DAYLIGHT
TZOFFSETFROM:+0100
TZOFFSETTO:+0200
TZNAME:CEST
DTSTART:20260329T010000
END:DAYLIGHT
BEGIN:STANDARD
TZOFFSETFROM:+0200
TZOFFSETTO:+0100
TZNAME:CET
DTSTART:20261025T010000
END:STANDARD
END:VTIMEZONE
BEGIN:VEVENT
DTSTART;VALUE=DATE:20250630
DTEND;VALUE=DATE:20250915
DTSTAMP:20260419T202821
CREATED:20250821T130900Z
LAST-MODIFIED:20250821T130900Z
UID:11273-1751241600-1757894399@www.rosinka.at
SUMMARY:ЛЕТНИЕ КАНИКУЛЫ 🥳☀️🥳
DESCRIPTION:
URL:https://www.rosinka.at/event/%d0%bb%d0%b5%d1%82%d0%bd%d0%b8%d0%b5-%d0%ba%d0%b0%d0%bd%d0%b8%d0%ba%d1%83%d0%bb%d1%8b-%f0%9f%a5%b3%e2%98%80%ef%b8%8f%f0%9f%a5%b3/
END:VEVENT
BEGIN:VEVENT
DTSTART;TZID=Europe/Vienna:20250630T171500
DTEND;TZID=Europe/Vienna:20250630T181500
DTSTAMP:20260419T202821
CREATED:20250604T183514Z
LAST-MODIFIED:20250604T183514Z
UID:11220-1751303700-1751307300@www.rosinka.at
SUMMARY:СВЕТЛЯЧКИ (4-5)
DESCRIPTION:
URL:https://www.rosinka.at/event/%d1%81%d0%b2%d0%b5%d1%82%d0%bb%d1%8f%d1%87%d0%ba%d0%b8-4-5-2/
END:VEVENT
BEGIN:VEVENT
DTSTART;TZID=Europe/Vienna:20250630T171500
DTEND;TZID=Europe/Vienna:20250630T184500
DTSTAMP:20260419T202821
CREATED:20250610T151136Z
LAST-MODIFIED:20250610T151136Z
UID:11228-1751303700-1751309100@www.rosinka.at
SUMMARY:ЖИВОПИСЬ (7-10+)
DESCRIPTION:
URL:https://www.rosinka.at/event/%d0%b6%d0%b8%d0%b2%d0%be%d0%bf%d0%b8%d1%81%d1%8c-7-10-7/
END:VEVENT
BEGIN:VEVENT
DTSTART;TZID=Europe/Vienna:20250701T173000
DTEND;TZID=Europe/Vienna:20250701T183000
DTSTAMP:20260419T202821
CREATED:20250610T150924Z
LAST-MODIFIED:20250610T150958Z
UID:11225-1751391000-1751394600@www.rosinka.at
SUMMARY:ЖИВОПИСЬ (4-6)
DESCRIPTION:
URL:https://www.rosinka.at/event/%d0%b8%d0%b7%d0%be-4-6/
END:VEVENT
BEGIN:VEVENT
DTSTART;TZID=Europe/Vienna:20250702T163000
DTEND;TZID=Europe/Vienna:20250702T173000
DTSTAMP:20260419T202821
CREATED:20250610T153128Z
LAST-MODIFIED:20250610T153128Z
UID:11230-1751473800-1751477400@www.rosinka.at
SUMMARY:ФАНТАЗЕРЫ (4-5)
DESCRIPTION:
URL:https://www.rosinka.at/event/%d1%84%d0%b0%d0%bd%d1%82%d0%b0%d0%b7%d0%b5%d1%80%d1%8b-4-5/
END:VEVENT
END:VCALENDAR