BEGIN:VCALENDAR
VERSION:2.0
PRODID:-//Rosinka - ECPv6.15.20//NONSGML v1.0//EN
CALSCALE:GREGORIAN
METHOD:PUBLISH
X-WR-CALNAME:Rosinka
X-ORIGINAL-URL:https://www.rosinka.at
X-WR-CALDESC:Мероприятия для Rosinka
REFRESH-INTERVAL;VALUE=DURATION:PT1H
X-Robots-Tag:noindex
X-PUBLISHED-TTL:PT1H
BEGIN:VTIMEZONE
TZID:Europe/Vienna
BEGIN:DAYLIGHT
TZOFFSETFROM:+0100
TZOFFSETTO:+0200
TZNAME:CEST
DTSTART:20240331T010000
END:DAYLIGHT
BEGIN:STANDARD
TZOFFSETFROM:+0200
TZOFFSETTO:+0100
TZNAME:CET
DTSTART:20241027T010000
END:STANDARD
BEGIN:DAYLIGHT
TZOFFSETFROM:+0100
TZOFFSETTO:+0200
TZNAME:CEST
DTSTART:20250330T010000
END:DAYLIGHT
BEGIN:STANDARD
TZOFFSETFROM:+0200
TZOFFSETTO:+0100
TZNAME:CET
DTSTART:20251026T010000
END:STANDARD
BEGIN:DAYLIGHT
TZOFFSETFROM:+0100
TZOFFSETTO:+0200
TZNAME:CEST
DTSTART:20260329T010000
END:DAYLIGHT
BEGIN:STANDARD
TZOFFSETFROM:+0200
TZOFFSETTO:+0100
TZNAME:CET
DTSTART:20261025T010000
END:STANDARD
BEGIN:DAYLIGHT
TZOFFSETFROM:+0100
TZOFFSETTO:+0200
TZNAME:CEST
DTSTART:20270328T010000
END:DAYLIGHT
BEGIN:STANDARD
TZOFFSETFROM:+0200
TZOFFSETTO:+0100
TZNAME:CET
DTSTART:20271031T010000
END:STANDARD
END:VTIMEZONE
BEGIN:VEVENT
DTSTART;VALUE=DATE:20251224
DTEND;VALUE=DATE:20260107
DTSTAMP:20260419T220753
CREATED:20250904T151316Z
LAST-MODIFIED:20251219T171930Z
UID:11288-1766534400-1767743999@www.rosinka.at
SUMMARY:РОЖДЕСТВЕНСКИЕ КАНИКУЛЫ 🎄🎅🏻🥳
DESCRIPTION:
URL:https://www.rosinka.at/event/%d1%80%d0%be%d0%b6%d0%b4%d0%b5%d1%81%d1%82%d0%b2%d0%b5%d0%bd%d1%81%d0%ba%d0%b8%d0%b5-%d0%ba%d0%b0%d0%bd%d0%b8%d0%ba%d1%83%d0%bb%d1%8b-9/
END:VEVENT
BEGIN:VEVENT
DTSTART;TZID=Europe/Vienna:20260107T150000
DTEND;TZID=Europe/Vienna:20260107T163000
DTSTAMP:20260419T220753
CREATED:20250912T072939Z
LAST-MODIFIED:20250912T072939Z
UID:11397-1767798000-1767803400@www.rosinka.at
SUMMARY:ЗНАЙЧИКИ (9-10)
DESCRIPTION:
URL:https://www.rosinka.at/event/%d0%b7%d0%bd%d0%b0%d0%b9%d1%87%d0%b8%d0%ba%d0%b8-9-10/2026-01-07/
END:VEVENT
BEGIN:VEVENT
DTSTART;TZID=Europe/Vienna:20260107T161500
DTEND;TZID=Europe/Vienna:20260107T174500
DTSTAMP:20260419T220753
CREATED:20250914T103540Z
LAST-MODIFIED:20250914T103540Z
UID:11539-1767802500-1767807900@www.rosinka.at
SUMMARY:ФАНТАЗЕРЫ (5-6)
DESCRIPTION:
URL:https://www.rosinka.at/event/%d1%84%d0%b0%d0%bd%d1%82%d0%b0%d0%b7%d0%b5%d1%80%d1%8b-5-6/2026-01-07/
END:VEVENT
BEGIN:VEVENT
DTSTART;TZID=Europe/Vienna:20260107T164500
DTEND;TZID=Europe/Vienna:20260107T181500
DTSTAMP:20260419T220753
CREATED:20250914T103353Z
LAST-MODIFIED:20250914T103353Z
UID:11416-1767804300-1767809700@www.rosinka.at
SUMMARY:БУКВОЕЖКИ (10-11)
DESCRIPTION:
URL:https://www.rosinka.at/event/%d0%b1%d1%83%d0%ba%d0%b2%d0%be%d0%b5%d0%b6%d0%ba%d0%b8-10-11/2026-01-07/
END:VEVENT
BEGIN:VEVENT
DTSTART;TZID=Europe/Vienna:20260108T164500
DTEND;TZID=Europe/Vienna:20260108T181500
DTSTAMP:20260419T220753
CREATED:20250914T103712Z
LAST-MODIFIED:20250914T103712Z
UID:11456-1767890700-1767896100@www.rosinka.at
SUMMARY:СОЛНЫШКИ (6-7)
DESCRIPTION:
URL:https://www.rosinka.at/event/%d1%81%d0%be%d0%bb%d0%bd%d1%8b%d1%88%d0%ba%d0%b8-6-7/2026-01-08/
END:VEVENT
BEGIN:VEVENT
DTSTART;TZID=Europe/Vienna:20260109T150000
DTEND;TZID=Europe/Vienna:20260109T163000
DTSTAMP:20260419T220753
CREATED:20250914T104045Z
LAST-MODIFIED:20250914T104045Z
UID:11496-1767970800-1767976200@www.rosinka.at
SUMMARY:ФИКСИКИ (7-9)
DESCRIPTION:
URL:https://www.rosinka.at/event/%d1%84%d0%b8%d0%ba%d1%81%d0%b8%d0%ba%d0%b8-7-9/2026-01-09/
END:VEVENT
BEGIN:VEVENT
DTSTART;TZID=Europe/Vienna:20260109T164500
DTEND;TZID=Europe/Vienna:20260109T174500
DTSTAMP:20260419T220753
CREATED:20251008T093307Z
LAST-MODIFIED:20251008T093307Z
UID:11649-1767977100-1767980700@www.rosinka.at
SUMMARY:МАЛЫШАРИКИ (3-4)
DESCRIPTION:
URL:https://www.rosinka.at/event/%d0%bc%d0%b0%d0%bb%d1%8b%d1%88%d0%b0%d1%80%d0%b8%d0%ba%d0%b8-3-4-3/2026-01-09/
END:VEVENT
BEGIN:VEVENT
DTSTART;TZID=Europe/Vienna:20260110T093000
DTEND;TZID=Europe/Vienna:20260110T103000
DTSTAMP:20260419T220753
CREATED:20251015T071052Z
LAST-MODIFIED:20251022T105304Z
UID:11704-1768037400-1768041000@www.rosinka.at
SUMMARY:МУЗЫКАЛЬНАЯ МАСТЕРСКАЯ
DESCRIPTION:
URL:https://www.rosinka.at/event/%d0%bc%d1%83%d0%b7%d1%8b%d0%ba%d0%b0%d0%bb%d1%8c%d0%bd%d0%b0%d1%8f-%d0%bc%d0%b0%d1%81%d1%82%d0%b5%d1%80%d1%81%d0%ba%d0%b0%d1%8f/2026-01-10/
END:VEVENT
BEGIN:VEVENT
DTSTART;TZID=Europe/Vienna:20260110T110000
DTEND;TZID=Europe/Vienna:20260110T120000
DTSTAMP:20260419T220753
CREATED:20250922T133956Z
LAST-MODIFIED:20251020T111951Z
UID:11588-1768042800-1768046400@www.rosinka.at
SUMMARY:ТЕАТРАЛЬНАЯ СТУДИЯ
DESCRIPTION:
URL:https://www.rosinka.at/event/%d1%82%d0%b5%d0%b0%d1%82%d1%80%d0%b0%d0%bb%d1%8c%d0%bd%d0%b0%d1%8f-%d1%81%d1%82%d1%83%d0%b4%d0%b8%d1%8f/2026-01-10/
END:VEVENT
END:VCALENDAR