BEGIN:VCALENDAR
VERSION:2.0
PRODID:-//Rosinka - ECPv6.15.20//NONSGML v1.0//EN
CALSCALE:GREGORIAN
METHOD:PUBLISH
X-ORIGINAL-URL:https://www.rosinka.at
X-WR-CALDESC:Мероприятия для Rosinka
REFRESH-INTERVAL;VALUE=DURATION:PT1H
X-Robots-Tag:noindex
X-PUBLISHED-TTL:PT1H
BEGIN:VTIMEZONE
TZID:Europe/Vienna
BEGIN:DAYLIGHT
TZOFFSETFROM:+0100
TZOFFSETTO:+0200
TZNAME:CEST
DTSTART:20250330T010000
END:DAYLIGHT
BEGIN:STANDARD
TZOFFSETFROM:+0200
TZOFFSETTO:+0100
TZNAME:CET
DTSTART:20251026T010000
END:STANDARD
BEGIN:DAYLIGHT
TZOFFSETFROM:+0100
TZOFFSETTO:+0200
TZNAME:CEST
DTSTART:20260329T010000
END:DAYLIGHT
BEGIN:STANDARD
TZOFFSETFROM:+0200
TZOFFSETTO:+0100
TZNAME:CET
DTSTART:20261025T010000
END:STANDARD
BEGIN:DAYLIGHT
TZOFFSETFROM:+0100
TZOFFSETTO:+0200
TZNAME:CEST
DTSTART:20270328T010000
END:DAYLIGHT
BEGIN:STANDARD
TZOFFSETFROM:+0200
TZOFFSETTO:+0100
TZNAME:CET
DTSTART:20271031T010000
END:STANDARD
END:VTIMEZONE
BEGIN:VEVENT
DTSTART;TZID=Europe/Vienna:20260302T171500
DTEND;TZID=Europe/Vienna:20260302T184500
DTSTAMP:20260419T203118
CREATED:20260222T164625Z
LAST-MODIFIED:20260223T124850Z
UID:11839-1772471700-1772477100@www.rosinka.at
SUMMARY:ЖИВОПИСЬ (7-10+)
DESCRIPTION:
URL:https://www.rosinka.at/event/%d0%b6%d0%b8%d0%b2%d0%be%d0%bf%d0%b8%d1%81%d1%8c-7-10-9/2026-03-02/
END:VEVENT
BEGIN:VEVENT
DTSTART;TZID=Europe/Vienna:20260303T160000
DTEND;TZID=Europe/Vienna:20260303T170000
DTSTAMP:20260419T203118
CREATED:20260222T164148Z
LAST-MODIFIED:20260222T164148Z
UID:11988-1772553600-1772557200@www.rosinka.at
SUMMARY:ПЧЕЛКИ (1\,5-3)
DESCRIPTION:
URL:https://www.rosinka.at/event/%d0%bf%d1%87%d0%b5%d0%bb%d0%ba%d0%b8-15-3-4/2026-03-03/
END:VEVENT
BEGIN:VEVENT
DTSTART;TZID=Europe/Vienna:20260303T171500
DTEND;TZID=Europe/Vienna:20260303T181500
DTSTAMP:20260419T203118
CREATED:20260222T164739Z
LAST-MODIFIED:20260223T124942Z
UID:11856-1772558100-1772561700@www.rosinka.at
SUMMARY:ЖИВОПИСЬ (4-6)
DESCRIPTION:
URL:https://www.rosinka.at/event/%d0%b6%d0%b8%d0%b2%d0%be%d0%bf%d0%b8%d1%81%d1%8c-4-6-35/2026-03-03/
END:VEVENT
BEGIN:VEVENT
DTSTART;TZID=Europe/Vienna:20260304T150000
DTEND;TZID=Europe/Vienna:20260304T163000
DTSTAMP:20260419T203118
CREATED:20260222T165555Z
LAST-MODIFIED:20260222T165555Z
UID:11894-1772636400-1772641800@www.rosinka.at
SUMMARY:ЗНАЙЧИКИ (9-10)
DESCRIPTION:
URL:https://www.rosinka.at/event/%d0%b7%d0%bd%d0%b0%d0%b9%d1%87%d0%b8%d0%ba%d0%b8-9-10-2/2026-03-04/
END:VEVENT
BEGIN:VEVENT
DTSTART;TZID=Europe/Vienna:20260304T161500
DTEND;TZID=Europe/Vienna:20260304T174500
DTSTAMP:20260419T203118
CREATED:20260222T165055Z
LAST-MODIFIED:20260222T165055Z
UID:11875-1772640900-1772646300@www.rosinka.at
SUMMARY:ФАНТАЗЕРЫ (5-6)
DESCRIPTION:
URL:https://www.rosinka.at/event/%d1%84%d0%b0%d0%bd%d1%82%d0%b0%d0%b7%d0%b5%d1%80%d1%8b-5-6-3/2026-03-04/
END:VEVENT
BEGIN:VEVENT
DTSTART;TZID=Europe/Vienna:20260304T164500
DTEND;TZID=Europe/Vienna:20260304T181500
DTSTAMP:20260419T203118
CREATED:20260222T165656Z
LAST-MODIFIED:20260222T165656Z
UID:11913-1772642700-1772648100@www.rosinka.at
SUMMARY:БУКВОЕЖКИ (10-11)
DESCRIPTION:
URL:https://www.rosinka.at/event/%d0%b1%d1%83%d0%ba%d0%b2%d0%be%d0%b5%d0%b6%d0%ba%d0%b8-10-11-2/2026-03-04/
END:VEVENT
BEGIN:VEVENT
DTSTART;TZID=Europe/Vienna:20260305T163000
DTEND;TZID=Europe/Vienna:20260305T180000
DTSTAMP:20260419T203118
CREATED:20260222T165906Z
LAST-MODIFIED:20260224T121809Z
UID:11932-1772728200-1772733600@www.rosinka.at
SUMMARY:УМНИКИ (13-15)
DESCRIPTION:
URL:https://www.rosinka.at/event/%d1%83%d0%bc%d0%bd%d0%b8%d0%ba%d0%b8-13-15-5-2026-03-05/2026-03-05/
END:VEVENT
BEGIN:VEVENT
DTSTART;TZID=Europe/Vienna:20260305T164500
DTEND;TZID=Europe/Vienna:20260305T181500
DTSTAMP:20260419T203118
CREATED:20260222T170049Z
LAST-MODIFIED:20260222T171824Z
UID:11986-1772729100-1772734500@www.rosinka.at
SUMMARY:СОЛНЫШКИ (6-7)
DESCRIPTION:
URL:https://www.rosinka.at/event/%d1%81%d0%be%d0%bb%d0%bd%d1%8b%d1%88%d0%ba%d0%b8-6-7-2/2026-03-05/
END:VEVENT
BEGIN:VEVENT
DTSTART;TZID=Europe/Vienna:20260306T145000
DTEND;TZID=Europe/Vienna:20260306T162000
DTSTAMP:20260419T203118
CREATED:20260222T172352Z
LAST-MODIFIED:20260222T172352Z
UID:12065-1772808600-1772814000@www.rosinka.at
SUMMARY:ЛУЧИКИ (6-7)
DESCRIPTION:
URL:https://www.rosinka.at/event/%d0%bb%d1%83%d1%87%d0%b8%d0%ba%d0%b8-6-7-4/2026-03-06/
END:VEVENT
BEGIN:VEVENT
DTSTART;TZID=Europe/Vienna:20260306T150000
DTEND;TZID=Europe/Vienna:20260306T163000
DTSTAMP:20260419T203118
CREATED:20260222T172147Z
LAST-MODIFIED:20260222T172147Z
UID:12047-1772809200-1772814600@www.rosinka.at
SUMMARY:ФИКСИКИ (7-9)
DESCRIPTION:
URL:https://www.rosinka.at/event/%d1%84%d0%b8%d0%ba%d1%81%d0%b8%d0%ba%d0%b8-7-9-2/2026-03-06/
END:VEVENT
BEGIN:VEVENT
DTSTART;TZID=Europe/Vienna:20260306T164500
DTEND;TZID=Europe/Vienna:20260306T174500
DTSTAMP:20260419T203118
CREATED:20260222T170313Z
LAST-MODIFIED:20260222T170313Z
UID:11969-1772815500-1772819100@www.rosinka.at
SUMMARY:МАЛЫШАРИКИ (3-4)
DESCRIPTION:
URL:https://www.rosinka.at/event/%d0%bc%d0%b0%d0%bb%d1%8b%d1%88%d0%b0%d1%80%d0%b8%d0%ba%d0%b8-3-4-4/2026-03-06/
END:VEVENT
BEGIN:VEVENT
DTSTART;TZID=Europe/Vienna:20260307T091500
DTEND;TZID=Europe/Vienna:20260307T101500
DTSTAMP:20260419T203118
CREATED:20260303T063051Z
LAST-MODIFIED:20260303T063051Z
UID:12165-1772874900-1772878500@www.rosinka.at
SUMMARY:РОБОТОТЕХНИКА
DESCRIPTION:
URL:https://www.rosinka.at/event/%d1%80%d0%be%d0%b1%d0%be%d1%82%d0%be%d1%82%d0%b5%d1%85%d0%bd%d0%b8%d0%ba%d0%b0-15/2026-03-07/
END:VEVENT
BEGIN:VEVENT
DTSTART;TZID=Europe/Vienna:20260307T093000
DTEND;TZID=Europe/Vienna:20260307T103000
DTSTAMP:20260419T203118
CREATED:20260222T172523Z
LAST-MODIFIED:20260222T172841Z
UID:12083-1772875800-1772879400@www.rosinka.at
SUMMARY:МУЗЫКАЛЬНАЯ МАСТЕРСКАЯ
DESCRIPTION:
URL:https://www.rosinka.at/event/%d0%bc%d1%83%d0%b7%d1%8b%d0%ba%d0%b0%d0%bb%d1%8c%d0%bd%d0%b0%d1%8f-%d0%bc%d0%b0%d1%81%d1%82%d0%b5%d1%80%d1%81%d0%ba%d0%b0%d1%8f-2/2026-03-07/
END:VEVENT
BEGIN:VEVENT
DTSTART;TZID=Europe/Vienna:20260307T110000
DTEND;TZID=Europe/Vienna:20260307T120000
DTSTAMP:20260419T203118
CREATED:20260222T172704Z
LAST-MODIFIED:20260222T172704Z
UID:12101-1772881200-1772884800@www.rosinka.at
SUMMARY:ТЕАТРАЛЬНАЯ СТУДИЯ
DESCRIPTION:
URL:https://www.rosinka.at/event/%d1%82%d0%b5%d0%b0%d1%82%d1%80%d0%b0%d0%bb%d1%8c%d0%bd%d0%b0%d1%8f-%d1%81%d1%82%d1%83%d0%b4%d0%b8%d1%8f-3/2026-03-07/
END:VEVENT
END:VCALENDAR